BEGIN:VCALENDAR
VERSION:2.0
PRODID:-//Plone.org//NONSGML plone.app.event//EN
X-WR-TIMEZONE:Europe/Madrid
BEGIN:VEVENT
SUMMARY:ENCESA DE LLUMS DE NADAL
DTSTART;TZID=Europe/Madrid;VALUE=DATE-TIME:20211210T183000
DTEND;TZID=Europe/Madrid;VALUE=DATE-TIME:20211210T193000
DTSTAMP;VALUE=DATE-TIME:20260421T095236Z
UID:da86c2f09fa9bc88501255784f14d199
CREATED;VALUE=DATE-TIME:20211210T000000Z
CATEGORIES:Infantils
LOCATION:Plaça de la Vila
COMMENT:Preu: Gratuït
URL:https://caldetes.cat/document.php?id=8600
END:VEVENT
END:VCALENDAR