BEGIN:VCALENDAR
VERSION:2.0
PRODID:-//Plone.org//NONSGML plone.app.event//EN
X-WR-TIMEZONE:Europe/Madrid
BEGIN:VEVENT
SUMMARY:TORNEIG SOCIAL DE FESTA MAJOR D'HIVERN
DTSTART;TZID=Europe/Madrid;VALUE=DATE-TIME:20211211T100000
DTEND;TZID=Europe/Madrid;VALUE=DATE-TIME:20211211T110000
DTSTAMP;VALUE=DATE-TIME:20260422T001834Z
UID:61a7b29d04586bd428dd15ad10629950
CREATED;VALUE=DATE-TIME:20211211T000000Z
CATEGORIES:Esports
LOCATION:Pistes Municipals de Petanca
ORGANIZER:Club Petanca Caldetes
DESCRIPTION:TIRADA DE PERNIL
URL:https://caldetes.cat/document.php?id=8601
END:VEVENT
END:VCALENDAR