BEGIN:VCALENDAR
VERSION:2.0
PRODID:-//Plone.org//NONSGML plone.app.event//EN
X-WR-TIMEZONE:Europe/Madrid
BEGIN:VEVENT
SUMMARY:ESPECTACLE FAMILIAR DE CARRER: "El meu amic Brutus"
DTSTART;TZID=Europe/Madrid;VALUE=DATE-TIME:20211211T120000
DTEND;TZID=Europe/Madrid;VALUE=DATE-TIME:20211211T130000
DTSTAMP;VALUE=DATE-TIME:20260421T022722Z
UID:12169b9e5b5bb83b5a83e2e7f11073d3
CREATED;VALUE=DATE-TIME:20211211T000000Z
CATEGORIES:Infantils,Música
LOCATION:Inici a la Plaça del Lledoner (al costat de la Fundació Palau) - Parc Can Muntanyà
COMMENT:Preu: Gratuït
DESCRIPTION:A càrrec de la companyia del Príncep Totilau.
URL:https://caldetes.cat/document.php?id=8602
END:VEVENT
END:VCALENDAR