BEGIN:VCALENDAR
VERSION:2.0
PRODID:-//Plone.org//NONSGML plone.app.event//EN
X-WR-TIMEZONE:Europe/Madrid
BEGIN:VEVENT
SUMMARY:DIA DEL VOLUNTARIAT
DTSTART;TZID=Europe/Madrid;VALUE=DATE-TIME:20211211T120000
DTEND;TZID=Europe/Madrid;VALUE=DATE-TIME:20211211T130000
DTSTAMP;VALUE=DATE-TIME:20260422T153146Z
UID:854b5c3aaaf50a494366760d3b8a9b96
CREATED;VALUE=DATE-TIME:20211211T000000Z
LOCATION:Plaça de la Vila
COMMENT:Preu: Gratuït
DESCRIPTION:Reconeixement als i les voluntàries del Covid-19.
URL:https://caldetes.cat/document.php?id=8603
END:VEVENT
END:VCALENDAR