BEGIN:VCALENDAR
VERSION:2.0
PRODID:-//Plone.org//NONSGML plone.app.event//EN
X-WR-TIMEZONE:Europe/Madrid
BEGIN:VEVENT
SUMMARY:CORREFOC DE LLUÏMENT
DTSTART;TZID=Europe/Madrid;VALUE=DATE-TIME:20211211T183000
DTEND;TZID=Europe/Madrid;VALUE=DATE-TIME:20211211T193000
DTSTAMP;VALUE=DATE-TIME:20260423T073230Z
UID:66221102e43218345272c7edd84671c8
CREATED;VALUE=DATE-TIME:20211211T000000Z
CATEGORIES:Festa,Infantils
LOCATION:Itinerari: Parc Joan Maragall, Riera fins Plaça de la Vila
ORGANIZER:Colla de Diables d'Estrac i Colla Infantil dels Diables d'Estrac
URL:https://caldetes.cat/document.php?id=8604
END:VEVENT
END:VCALENDAR