BEGIN:VCALENDAR
VERSION:2.0
PRODID:-//Plone.org//NONSGML plone.app.event//EN
X-WR-TIMEZONE:Europe/Madrid
BEGIN:VEVENT
SUMMARY:NIT JOVE amb l'actuació musical de Virginia Zaldívar
DTSTART;TZID=Europe/Madrid;VALUE=DATE-TIME:20211211T230000
DTEND;TZID=Europe/Madrid;VALUE=DATE-TIME:20211212T000000
DTSTAMP;VALUE=DATE-TIME:20260424T000132Z
UID:a55d2f8b3cee405f6877e546cfaa9112
CREATED;VALUE=DATE-TIME:20211211T000000Z
CATEGORIES:Música
LOCATION:Sala Cultural - 1r pis de l'Ajuntament de Caldes d'Estrac, Pl. de la Vila s/n
ORGANIZER:Àrea de Joventut i Àrea de Dona i Polítiques d'Igualtat
COMMENT:Preu: Gratuït
DESCRIPTION:Tot seguit, Ricky Vives i Henry Jones.
URL:https://caldetes.cat/document.php?id=8605
END:VEVENT
END:VCALENDAR