BEGIN:VCALENDAR
VERSION:2.0
PRODID:-//Plone.org//NONSGML plone.app.event//EN
X-WR-TIMEZONE:Europe/Madrid
BEGIN:VEVENT
SUMMARY:JOCS GEGANTS PER A PETITS I GRANS
DTSTART;TZID=Europe/Madrid;VALUE=DATE-TIME:20211212T110000
DTEND;TZID=Europe/Madrid;VALUE=DATE-TIME:20211212T120000
DTSTAMP;VALUE=DATE-TIME:20260424T042737Z
UID:94a2537aec776ae19f635da52db66f6c
CREATED;VALUE=DATE-TIME:20211212T000000Z
CATEGORIES:Infantils
LOCATION:Esplanada Can Muntanyà
COMMENT:Preu: Gratuït
DESCRIPTION:A càrrec de Quiràlia.
URL:https://caldetes.cat/document.php?id=8606
END:VEVENT
END:VCALENDAR