BEGIN:VCALENDAR
VERSION:2.0
PRODID:-//Plone.org//NONSGML plone.app.event//EN
X-WR-TIMEZONE:Europe/Madrid
BEGIN:VEVENT
SUMMARY:ESPECTACLE D'HUMOR GESTUAL: "Brossa, una comèdia de merda"
DTSTART;TZID=Europe/Madrid;VALUE=DATE-TIME:20211212T200000
DTEND;TZID=Europe/Madrid;VALUE=DATE-TIME:20211212T210000
DTSTAMP;VALUE=DATE-TIME:20260423T090830Z
UID:fcbc1fa7686c194719697b8d6186a4ce
CREATED;VALUE=DATE-TIME:20211212T000000Z
CATEGORIES:Teatre
LOCATION:Sala Cultural - 1r pis de l'Ajuntament de Caldes d'Estrac, Pl. de la Vila s/n
COMMENT:Preu: Gratuït
DESCRIPTION:A càrrec de Raúl Martinez d'H6 Clown.
URL:https://caldetes.cat/document.php?id=8608
END:VEVENT
END:VCALENDAR