BEGIN:VCALENDAR
VERSION:2.0
PRODID:-//Plone.org//NONSGML plone.app.event//EN
X-WR-TIMEZONE:Europe/Madrid
BEGIN:VEVENT
SUMMARY:XERRADA SOBRE SALUT MENTAL ENTRE ELS I LES JOVES
DTSTART;TZID=Europe/Madrid;VALUE=DATE-TIME:20211217T180000
DTEND;TZID=Europe/Madrid;VALUE=DATE-TIME:20211217T190000
DTSTAMP;VALUE=DATE-TIME:20260426T053224Z
UID:805409a743d76f0ca4e9cae6746754d0
CREATED;VALUE=DATE-TIME:20211217T000000Z
LOCATION:Espai Jove - La Fabriqueta (La Riera 5-9, entrada per Camí Ral).
ORGANIZER:Àrea de Joventut i Acció Social
COMMENT:Preu: Gratuït
DESCRIPTION:A càrrec d'Anna Horta, psiquiatra de l'Hospital de Mataró.
URL:https://caldetes.cat/document.php?id=8611
END:VEVENT
END:VCALENDAR