BEGIN:VCALENDAR
VERSION:2.0
PRODID:-//Plone.org//NONSGML plone.app.event//EN
X-WR-TIMEZONE:Europe/Madrid
BEGIN:VEVENT
SUMMARY:Sortida cultural a Girona
DTSTART;TZID=Europe/Madrid;VALUE=DATE-TIME:20211217T090000
DTEND;TZID=Europe/Madrid;VALUE=DATE-TIME:20211217T100000
DTSTAMP;VALUE=DATE-TIME:20260423T055451Z
UID:bcdc9798e3911725ebfd265edf79abc1
CREATED;VALUE=DATE-TIME:20211217T000000Z
ORGANIZER:Àrea de Gent Gran
URL:https://caldetes.cat/document.php?id=8626
END:VEVENT
END:VCALENDAR