BEGIN:VCALENDAR
VERSION:2.0
PRODID:-//Plone.org//NONSGML plone.app.event//EN
X-WR-TIMEZONE:Europe/Madrid
BEGIN:VEVENT
SUMMARY:RECEPCIÓ DE SES MAJESTATS ELS REIS MAGS D'ORIENT
DTSTART;TZID=Europe/Madrid;VALUE=DATE-TIME:20220105T180000
DTEND;TZID=Europe/Madrid;VALUE=DATE-TIME:20220105T190000
DTSTAMP;VALUE=DATE-TIME:20260423T015958Z
UID:bc80a394b81b50640eaea32b1c9bf95a
CREATED;VALUE=DATE-TIME:20220105T000000Z
CATEGORIES:Infantils
LOCATION:Sala Cultural - 1r pis de l'Ajuntament de Caldes d'Estrac, Pl. de la Vila s/n
ORGANIZER:Comissió de Festes Nadalenques
URL:https://caldetes.cat/document.php?id=8633
END:VEVENT
END:VCALENDAR