BEGIN:VCALENDAR
VERSION:2.0
PRODID:-//Plone.org//NONSGML plone.app.event//EN
X-WR-TIMEZONE:Europe/Madrid
BEGIN:VEVENT
SUMMARY:RECITAL DE REIS: 'JA BAIXEN'
DTSTART;TZID=Europe/Madrid;VALUE=DATE-TIME:20220102T200000
DTEND;TZID=Europe/Madrid;VALUE=DATE-TIME:20220102T210000
DTSTAMP;VALUE=DATE-TIME:20260422T105855Z
UID:296dceeeb808de8bc1018578a3a513b2
CREATED;VALUE=DATE-TIME:20220102T000000Z
CATEGORIES:Música,Teatre
LOCATION:Fundació Palau - La Riera, 54
ORGANIZER:Fundació Palau
COMMENT:Preu: Gratuït
DESCRIPTION:RECITAL DE POESIES I CONTES DE DIVERSOS AUTORS CATALANOPARLANTS AL VOLTANT DELS TRES REIS DE L'ORIENT
URL:https://caldetes.cat/document.php?id=8634
END:VEVENT
END:VCALENDAR