BEGIN:VCALENDAR
VERSION:2.0
PRODID:-//Plone.org//NONSGML plone.app.event//EN
X-WR-TIMEZONE:Europe/Madrid
BEGIN:VEVENT
SUMMARY:2a Mongetada Popular
DTSTART;TZID=Europe/Madrid;VALUE=DATE-TIME:20101031T120000
DTEND;TZID=Europe/Madrid;VALUE=DATE-TIME:20101031T130000
DTSTAMP;VALUE=DATE-TIME:20260424T030530Z
UID:fefa08c10fa7b54d99e702a53ed8e58c
CREATED;VALUE=DATE-TIME:20101031T000000Z
LOCATION:Esplanada Can Muntanyà
ORGANIZER:Ajuntament de Caldes d'Estrac
COMMENT:Preu: 3,5&euro; destinats íntegrament a La marató de TV3
URL:https://caldetes.cat/document.php?id=864
END:VEVENT
END:VCALENDAR