BEGIN:VCALENDAR
VERSION:2.0
PRODID:-//Plone.org//NONSGML plone.app.event//EN
X-WR-TIMEZONE:Europe/Madrid
BEGIN:VEVENT
SUMMARY:HORA DEL CONTE "Contes amb olor de cel blau"
DTSTART;TZID=Europe/Madrid;VALUE=DATE-TIME:20220121T180000
DTEND;TZID=Europe/Madrid;VALUE=DATE-TIME:20220121T190000
DTSTAMP;VALUE=DATE-TIME:20260423T042456Z
UID:18c8544e0f9c873059aaea99eec517f5
CREATED;VALUE=DATE-TIME:20220121T000000Z
CATEGORIES:Literatura,Infantils
LOCATION:Sala Cultural - 1r pis de l'Ajuntament de Caldes d'Estrac, Pl. de la Vila s/n
ORGANIZER:Biblioteca Can Milans i Ajuntament de Caldes d'Estrac
COMMENT:Preu: Gratuït
DESCRIPTION:A càrrec de Sherezade Bardají
URL:https://caldetes.cat/document.php?id=8648
END:VEVENT
END:VCALENDAR