BEGIN:VCALENDAR
VERSION:2.0
PRODID:-//Plone.org//NONSGML plone.app.event//EN
X-WR-TIMEZONE:Europe/Madrid
BEGIN:VEVENT
SUMMARY:CLUB DE LECTURA: Una madre de Alejandro Palomas
DTSTART;TZID=Europe/Madrid;VALUE=DATE-TIME:20220129T110000
DTEND;TZID=Europe/Madrid;VALUE=DATE-TIME:20220129T120000
DTSTAMP;VALUE=DATE-TIME:20260421T024940Z
UID:9eb53f7feba737027c9fc1ee2589bad9
CREATED;VALUE=DATE-TIME:20220129T000000Z
CATEGORIES:Literatura
LOCATION:Biblioteca Can Milans - C/ Esglèsia, 6
ORGANIZER:Biblioteca Can Milans
COMMENT:Preu: Gratuït
DESCRIPTION:Amb Èlia Portús
URL:https://caldetes.cat/document.php?id=8649
END:VEVENT
END:VCALENDAR