BEGIN:VCALENDAR
VERSION:2.0
PRODID:-//Plone.org//NONSGML plone.app.event//EN
X-WR-TIMEZONE:Europe/Madrid
BEGIN:VEVENT
SUMMARY:Parada de Productes de l'Índia
DTSTART;TZID=Europe/Madrid;VALUE=DATE-TIME:20101107T110000
DTEND;TZID=Europe/Madrid;VALUE=DATE-TIME:20101107T120000
DTSTAMP;VALUE=DATE-TIME:20260424T200604Z
UID:62a10f2e5989aae42a9408ec85118f9e
CREATED;VALUE=DATE-TIME:20101107T000000Z
LOCATION:Parc Joan Maragall
ORGANIZER:Associació "El Somriure dels Nens"
COMMENT:Durada: 3:30 hores
URL:https://caldetes.cat/document.php?id=865
END:VEVENT
END:VCALENDAR