BEGIN:VCALENDAR
VERSION:2.0
PRODID:-//Plone.org//NONSGML plone.app.event//EN
X-WR-TIMEZONE:Europe/Madrid
BEGIN:VEVENT
SUMMARY:HORA DEL CONTE "Un dia al mar"
DTSTART;TZID=Europe/Madrid;VALUE=DATE-TIME:20220204T180000
DTEND;TZID=Europe/Madrid;VALUE=DATE-TIME:20220204T190000
DTSTAMP;VALUE=DATE-TIME:20260424T095227Z
UID:9c63453cc99b07b4eb24813cb1127a1f
CREATED;VALUE=DATE-TIME:20220204T000000Z
CATEGORIES:Literatura,Infantils
LOCATION:Sala Cultural - 1r pis de l'Ajuntament de Caldes d'Estrac, Pl. de la Vila s/n
ORGANIZER:Biblioteca Can Milans i Ajuntament de Caldes d'Estrac
COMMENT:Preu: Gratuït
DESCRIPTION:Amb Marta Arnaus
URL:https://caldetes.cat/document.php?id=8650
END:VEVENT
END:VCALENDAR