BEGIN:VCALENDAR
VERSION:2.0
PRODID:-//Plone.org//NONSGML plone.app.event//EN
X-WR-TIMEZONE:Europe/Madrid
BEGIN:VEVENT
SUMMARY:TALLERS DE CREIXEMENT PERSONAL
DTSTART;TZID=Europe/Madrid;VALUE=DATE-TIME:20220205T110000
DTEND;TZID=Europe/Madrid;VALUE=DATE-TIME:20220205T120000
DTSTAMP;VALUE=DATE-TIME:20260424T031011Z
UID:c257d8c9c184784d9f25be25a90267ee
CREATED;VALUE=DATE-TIME:20220205T000000Z
CATEGORIES:Cursos,Conferència
LOCATION:Biblioteca Can Milans - C/ Esglèsia, 6
ORGANIZER:Biblioteca Can Milans i Ajuntament de Caldes d'Estrac
COMMENT:Preu: Gratuït
DESCRIPTION:A càrrec de Norma Isern
URL:https://caldetes.cat/document.php?id=8651
END:VEVENT
END:VCALENDAR