BEGIN:VCALENDAR
VERSION:2.0
PRODID:-//Plone.org//NONSGML plone.app.event//EN
X-WR-TIMEZONE:Europe/Madrid
BEGIN:VEVENT
SUMMARY:ELS DIUMENGES DE LA FUNDACIÓ PALAU: CUINANT POESIA
DTSTART;TZID=Europe/Madrid;VALUE=DATE-TIME:20220306T113000
DTEND;TZID=Europe/Madrid;VALUE=DATE-TIME:20220306T123000
DTSTAMP;VALUE=DATE-TIME:20260422T192529Z
UID:865c3301a8bac814550826f625606ba8
CREATED;VALUE=DATE-TIME:20220306T000000Z
CATEGORIES:Cursos,Infantils
LOCATION:Fundació Palau - La Riera, 54
ORGANIZER:Fundació Palau i Ajuntament de Caldes d'Estrac
COMMENT:Preu: Gratuït
Durada: 1 hora
URL:https://caldetes.cat/document.php?id=8686
END:VEVENT
END:VCALENDAR