BEGIN:VCALENDAR
VERSION:2.0
PRODID:-//Plone.org//NONSGML plone.app.event//EN
X-WR-TIMEZONE:Europe/Madrid
BEGIN:VEVENT
SUMMARY:Portes obertes de l'Escola Sagrada Família
DTSTART;TZID=Europe/Madrid;VALUE=DATE-TIME:20220219T000000
DTEND;TZID=Europe/Madrid;VALUE=DATE-TIME:20220219T010000
DTSTAMP;VALUE=DATE-TIME:20260422T080815Z
UID:3c4d32f174d8891745406d2a587eb5fc
CREATED;VALUE=DATE-TIME:20220219T000000Z
CATEGORIES:Mostra
LOCATION:Escola Sagrada Família - Carrer Major, 50
URL:https://caldetes.cat/document.php?id=8688
END:VEVENT
END:VCALENDAR