BEGIN:VCALENDAR
VERSION:2.0
PRODID:-//Plone.org//NONSGML plone.app.event//EN
X-WR-TIMEZONE:Europe/Madrid
BEGIN:VEVENT
SUMMARY:Sortim a passejar
DTSTART;TZID=Europe/Madrid;VALUE=DATE-TIME:20101117T000000
DTEND;TZID=Europe/Madrid;VALUE=DATE-TIME:20101117T010000
DTSTAMP;VALUE=DATE-TIME:20260423T061519Z
UID:a7f99f2146c27f8b12cb97dfc44260de
CREATED;VALUE=DATE-TIME:20101117T000000Z
ORGANIZER:Regidoria Serveis Socials Ajuntament de Caldes d´Estrac
URL:https://caldetes.cat/document.php?id=869
END:VEVENT
END:VCALENDAR