BEGIN:VCALENDAR
VERSION:2.0
PRODID:-//Plone.org//NONSGML plone.app.event//EN
X-WR-TIMEZONE:Europe/Madrid
BEGIN:VEVENT
SUMMARY:Futbol Sala
DTSTART;TZID=Europe/Madrid;VALUE=DATE-TIME:20101106T163000
DTEND;TZID=Europe/Madrid;VALUE=DATE-TIME:20101106T173000
DTSTAMP;VALUE=DATE-TIME:20260424T214028Z
UID:d8b8a6cfa3e1f1a57ef930edd3688110
CREATED;VALUE=DATE-TIME:20101106T000000Z
LOCATION:Pavelló Poliesportiu Municipal
ORGANIZER:Club Caldes d'Estrac Futbol Sala amb la col·laboració de la Regidoria d'Esports
DESCRIPTION:Estrac Serena Mar FS "A" vs Porqueres Club FS "A"
URL:https://caldetes.cat/document.php?id=872
END:VEVENT
END:VCALENDAR