BEGIN:VCALENDAR
VERSION:2.0
PRODID:-//Plone.org//NONSGML plone.app.event//EN
X-WR-TIMEZONE:Europe/Madrid
BEGIN:VEVENT
SUMMARY:Portes obertes de l'Institut Esteve Albert
DTSTART;TZID=Europe/Madrid;VALUE=DATE-TIME:20220306T103000
DTEND;TZID=Europe/Madrid;VALUE=DATE-TIME:20220306T113000
DTSTAMP;VALUE=DATE-TIME:20260424T200144Z
UID:e0f79c4f571ccc5aa61fdb29c16e05a4
CREATED;VALUE=DATE-TIME:20220306T000000Z
CATEGORIES:Mostra
LOCATION:Institut Esteve Albert
URL:https://caldetes.cat/document.php?id=8725
END:VEVENT
END:VCALENDAR