BEGIN:VCALENDAR
VERSION:2.0
PRODID:-//Plone.org//NONSGML plone.app.event//EN
X-WR-TIMEZONE:Europe/Madrid
BEGIN:VEVENT
SUMMARY:Xerrada 'Ser dona no sempre és ser mare' (Dia Internacional de les Dones)
DTSTART;TZID=Europe/Madrid;VALUE=DATE-TIME:20220308T190000
DTEND;TZID=Europe/Madrid;VALUE=DATE-TIME:20220308T200000
DTSTAMP;VALUE=DATE-TIME:20260424T042130Z
UID:089abbf1cc5d3d49692ea8cd8e19b16a
CREATED;VALUE=DATE-TIME:20220308T000000Z
CATEGORIES:Conferència
LOCATION:En línia
ORGANIZER:Àrea de Dona i Polítiques d'Igualtat
DESCRIPTION:El dimarts 8 de març de 2022, a les 19 hores, en línia
URL:https://caldetes.cat/document.php?id=8726
END:VEVENT
END:VCALENDAR