BEGIN:VCALENDAR
VERSION:2.0
PRODID:-//Plone.org//NONSGML plone.app.event//EN
X-WR-TIMEZONE:Europe/Madrid
BEGIN:VEVENT
SUMMARY:Futbol Sala
DTSTART;TZID=Europe/Madrid;VALUE=DATE-TIME:20101106T183000
DTEND;TZID=Europe/Madrid;VALUE=DATE-TIME:20101106T193000
DTSTAMP;VALUE=DATE-TIME:20260423T142840Z
UID:eed8802e066bb654292daab244ed505d
CREATED;VALUE=DATE-TIME:20101106T000000Z
LOCATION:Pavelló Poliesportiu Municipal
ORGANIZER:Club Caldes d'Estrac Futbol Sala amb la col·laboració de la Regidoria d'Esports
DESCRIPTION:3a Divisió Juvenil. Grup 2. Club Caldes d'Estrac Futbol Sala "A" vs Touring CFS "A"
URL:https://caldetes.cat/document.php?id=873
END:VEVENT
END:VCALENDAR