BEGIN:VCALENDAR
VERSION:2.0
PRODID:-//Plone.org//NONSGML plone.app.event//EN
X-WR-TIMEZONE:Europe/Madrid
BEGIN:VEVENT
SUMMARY:Berenar intercultural de dones (Dia Internacional de les Dones)
DTSTART;TZID=Europe/Madrid;VALUE=DATE-TIME:20220313T170000
DTEND;TZID=Europe/Madrid;VALUE=DATE-TIME:20220313T180000
DTSTAMP;VALUE=DATE-TIME:20260422T014359Z
UID:20a7962dd976cabb6e45501b82383374
CREATED;VALUE=DATE-TIME:20220313T000000Z
CATEGORIES:Festa
LOCATION:Espai Jove - La Fabriqueta (La Riera 5-9, entrada per Camí Ral)
ORGANIZER:Àrea de Dona i Polítiques d'Igualtat
DESCRIPTION:Trobada de dones de Caldes d'Estrac
URL:https://caldetes.cat/document.php?id=8733
END:VEVENT
END:VCALENDAR