BEGIN:VCALENDAR
VERSION:2.0
PRODID:-//Plone.org//NONSGML plone.app.event//EN
X-WR-TIMEZONE:Europe/Madrid
BEGIN:VEVENT
SUMMARY:Escola de Sardanes
DTSTART;TZID=Europe/Madrid;VALUE=DATE-TIME:20101114T113000
DTEND;TZID=Europe/Madrid;VALUE=DATE-TIME:20101114T123000
DTSTAMP;VALUE=DATE-TIME:20260423T160145Z
UID:054fc52e7b713e018456e9c643ad46f5
CREATED;VALUE=DATE-TIME:20101114T000000Z
LOCATION:Esplanada Can Muntanyà
ORGANIZER:Agrupació de Pensionistes i Tercera Edat de Caldes d'Estrac
DESCRIPTION:Obert a tothom
URL:https://caldetes.cat/document.php?id=876
END:VEVENT
END:VCALENDAR