BEGIN:VCALENDAR
VERSION:2.0
PRODID:-//Plone.org//NONSGML plone.app.event//EN
X-WR-TIMEZONE:Europe/Madrid
BEGIN:VEVENT
SUMMARY:Lectura en Veu Alta 'Paraules sentides per Sant Jordi'
DTSTART;TZID=Europe/Madrid;VALUE=DATE-TIME:20220422T160000
DTEND;TZID=Europe/Madrid;VALUE=DATE-TIME:20220422T170000
DTSTAMP;VALUE=DATE-TIME:20260424T054743Z
UID:c553a0952ec5df8b02b67e780f2ba006
CREATED;VALUE=DATE-TIME:20220422T000000Z
CATEGORIES:Literatura
LOCATION:Residències Bellavista, Santa Berta i Floridadorada
ORGANIZER:Àrea de Gent Gran, Agrupació de Pensionistes, Espai Jove i Biblioteca Can Milans
DESCRIPTION:3 residències, 3 generacions i 3 gèneres literaris
URL:https://caldetes.cat/document.php?id=8776
END:VEVENT
END:VCALENDAR