BEGIN:VCALENDAR
VERSION:2.0
PRODID:-//Plone.org//NONSGML plone.app.event//EN
X-WR-TIMEZONE:Europe/Madrid
BEGIN:VEVENT
SUMMARY:Escola de Sardanes
DTSTART;TZID=Europe/Madrid;VALUE=DATE-TIME:20101128T113000
DTEND;TZID=Europe/Madrid;VALUE=DATE-TIME:20101128T123000
DTSTAMP;VALUE=DATE-TIME:20260421T124856Z
UID:5e289ec02f0bad4dfe4ea1fe417853e2
CREATED;VALUE=DATE-TIME:20101128T000000Z
LOCATION:Esplanada Can Muntanyà
ORGANIZER:Agrupació de Pensionistes i Tercera Edat de Caldes d'Estrac
DESCRIPTION:Obert a tothom
URL:https://caldetes.cat/document.php?id=878
END:VEVENT
END:VCALENDAR