BEGIN:VCALENDAR
VERSION:2.0
PRODID:-//Plone.org//NONSGML plone.app.event//EN
X-WR-TIMEZONE:Europe/Madrid
BEGIN:VEVENT
SUMMARY:Petanca. Dinar de germanor
DTSTART;TZID=Europe/Madrid;VALUE=DATE-TIME:20101107T000000
DTEND;TZID=Europe/Madrid;VALUE=DATE-TIME:20101107T010000
DTSTAMP;VALUE=DATE-TIME:20260422T163834Z
UID:a97c20c44efb868dd43a0645c3d6222d
CREATED;VALUE=DATE-TIME:20101107T000000Z
URL:https://caldetes.cat/document.php?id=880
END:VEVENT
END:VCALENDAR