BEGIN:VCALENDAR
VERSION:2.0
PRODID:-//Plone.org//NONSGML plone.app.event//EN
X-WR-TIMEZONE:Europe/Madrid
BEGIN:VEVENT
SUMMARY:Inici del Taller de la Memòria
DTSTART;TZID=Europe/Madrid;VALUE=DATE-TIME:20101108T103000
DTEND;TZID=Europe/Madrid;VALUE=DATE-TIME:20101108T113000
DTSTAMP;VALUE=DATE-TIME:20260422T100538Z
UID:f7498be3074c42cc8473592a991350f9
CREATED;VALUE=DATE-TIME:20101108T000000Z
LOCATION:Equipament de Promoció Econòmica i Cultural
ORGANIZER:Àrea de Serveis Socials
DESCRIPTION:a càrrec de la psicòloga de Serveis Socials, Pilar de Vilar
URL:https://caldetes.cat/document.php?id=881
END:VEVENT
END:VCALENDAR