BEGIN:VCALENDAR
VERSION:2.0
PRODID:-//Plone.org//NONSGML plone.app.event//EN
X-WR-TIMEZONE:Europe/Madrid
BEGIN:VEVENT
SUMMARY:ELS DIJOUS A LA PALAU
DTSTART;TZID=Europe/Madrid;VALUE=DATE-TIME:20220512T183000
DTEND;TZID=Europe/Madrid;VALUE=DATE-TIME:20220512T193000
DTSTAMP;VALUE=DATE-TIME:20260425T173619Z
UID:503f208767f4f84cb73a9f60b524bcef
CREATED;VALUE=DATE-TIME:20220512T000000Z
CATEGORIES:Conferència
LOCATION:Fundació Palau - La Riera, 54
ORGANIZER:Fundació Palau
COMMENT:Preu: Gratuït
Durada: 1h
DESCRIPTION:Presentació del fotollibre 'Sota la llum del mar'
URL:https://caldetes.cat/document.php?id=8816
END:VEVENT
END:VCALENDAR