BEGIN:VCALENDAR
VERSION:2.0
PRODID:-//Plone.org//NONSGML plone.app.event//EN
X-WR-TIMEZONE:Europe/Madrid
BEGIN:VEVENT
SUMMARY:ELS DIJOUS A LA PALAU
DTSTART;TZID=Europe/Madrid;VALUE=DATE-TIME:20220505T183000
DTEND;TZID=Europe/Madrid;VALUE=DATE-TIME:20220505T193000
DTSTAMP;VALUE=DATE-TIME:20260425T003710Z
UID:da11b72652c81cbfaf7eddc40de450d7
CREATED;VALUE=DATE-TIME:20220505T000000Z
CATEGORIES:Literatura
LOCATION:Fundació Palau - La Riera, 54
ORGANIZER:Fundació Palau
COMMENT:Preu: Gratuït
Durada: 1h
URL:https://caldetes.cat/document.php?id=8821
END:VEVENT
END:VCALENDAR