BEGIN:VCALENDAR
VERSION:2.0
PRODID:-//Plone.org//NONSGML plone.app.event//EN
X-WR-TIMEZONE:Europe/Madrid
BEGIN:VEVENT
SUMMARY:Festival Poesia i + 2022
DTSTART;TZID=Europe/Madrid;VALUE=DATE-TIME:20220628T000000
DTEND;TZID=Europe/Madrid;VALUE=DATE-TIME:20220628T010000
DTSTAMP;VALUE=DATE-TIME:20260422T143842Z
UID:03eb17e83f781926cf8efe54f635abdc
CREATED;VALUE=DATE-TIME:20220628T000000Z
CATEGORIES:Música
LOCATION:Altre (ho explico més avall)
ORGANIZER:Fundació Palau i Ajuntament de Caldes d'Estrac
COMMENT:Preu: Diversos preus
DESCRIPTION:Del 28 de juny al 10 de juliol
URL:https://caldetes.cat/document.php?id=8823
END:VEVENT
END:VCALENDAR