BEGIN:VCALENDAR
VERSION:2.0
PRODID:-//Plone.org//NONSGML plone.app.event//EN
X-WR-TIMEZONE:Europe/Madrid
BEGIN:VEVENT
SUMMARY:Inici del Taller de suport a les persones en situació d'atur
DTSTART;TZID=Europe/Madrid;VALUE=DATE-TIME:20101109T160000
DTEND;TZID=Europe/Madrid;VALUE=DATE-TIME:20101109T170000
DTSTAMP;VALUE=DATE-TIME:20260425T172626Z
UID:3de6678225472b142dd8a8b0dae55a9f
CREATED;VALUE=DATE-TIME:20101109T000000Z
LOCATION:Equipament de Promoció Econòmica i Cultural
ORGANIZER:Àrea de Serveis Socials
DESCRIPTION:a càrrec de la psicòloga de Serveis Socials, Pilar de Vilar
URL:https://caldetes.cat/document.php?id=883
END:VEVENT
END:VCALENDAR