BEGIN:VCALENDAR
VERSION:2.0
PRODID:-//Plone.org//NONSGML plone.app.event//EN
X-WR-TIMEZONE:Europe/Madrid
BEGIN:VEVENT
SUMMARY:ESPECTACLE INFANTIL 'Los alimentos son mágicos'
DTSTART;TZID=Europe/Madrid;VALUE=DATE-TIME:20220729T190000
DTEND;TZID=Europe/Madrid;VALUE=DATE-TIME:20220729T200000
DTSTAMP;VALUE=DATE-TIME:20260422T143912Z
UID:6ca0c6d252ed178382e24c1fece37196
CREATED;VALUE=DATE-TIME:20220729T000000Z
CATEGORIES:Literatura,Infantils
LOCATION:Biblioteca Can Milans - C/ Església, 6
ORGANIZER:Biblioteca Can Milans
COMMENT:Preu: Gratuït
DESCRIPTION:A càrrec de Màgica-Majo
URL:https://caldetes.cat/document.php?id=8859
END:VEVENT
END:VCALENDAR