BEGIN:VCALENDAR
VERSION:2.0
PRODID:-//Plone.org//NONSGML plone.app.event//EN
X-WR-TIMEZONE:Europe/Madrid
BEGIN:VEVENT
SUMMARY:MONÒLEG 'Pompeu Fabra, jugada mestra'
DTSTART;TZID=Europe/Madrid;VALUE=DATE-TIME:20220902T200000
DTEND;TZID=Europe/Madrid;VALUE=DATE-TIME:20220902T210000
DTSTAMP;VALUE=DATE-TIME:20260422T031024Z
UID:e3c26f3d0cbc1690e9536a05ad2bd7f4
CREATED;VALUE=DATE-TIME:20220902T000000Z
CATEGORIES:Literatura
LOCATION:Sala Cultural. 1r pis, ajuntament de Caldes d'Estrac - 1r pis de l'Ajuntament de Caldes d'Estrac, Pl. de la Vila s/n
ORGANIZER:Biblioteca Can Milans
COMMENT:Preu: Gratuït
DESCRIPTION:A càrrec d'Òscar Intente
URL:https://caldetes.cat/document.php?id=8861
END:VEVENT
END:VCALENDAR