BEGIN:VCALENDAR
VERSION:2.0
PRODID:-//Plone.org//NONSGML plone.app.event//EN
X-WR-TIMEZONE:Europe/Madrid
BEGIN:VEVENT
SUMMARY:EXPOSICIÓ 'Aigua'
DTSTART;TZID=Europe/Madrid;VALUE=DATE-TIME:20220902T153000
DTEND;TZID=Europe/Madrid;VALUE=DATE-TIME:20220902T163000
DTSTAMP;VALUE=DATE-TIME:20260422T140525Z
UID:53fc0780cc2892c8edcf73394aa2aa91
CREATED;VALUE=DATE-TIME:20220901T000000Z
CATEGORIES:Exposició,Literatura
LOCATION:Biblioteca Can Milans - C/ Església, 6
ORGANIZER:Biblioteca Can Milans i Diputació de Barcelona
COMMENT:Preu: Gratuït
Durada: Horari: De dilluns a divendres, de 15:30 a 20h i dimecres, de 10:30 a 13h.
DESCRIPTION:Produïda pel Consell Català del Llibre Infantil i Juvenil
URL:https://caldetes.cat/document.php?id=8862
END:VEVENT
END:VCALENDAR