BEGIN:VCALENDAR
VERSION:2.0
PRODID:-//Plone.org//NONSGML plone.app.event//EN
X-WR-TIMEZONE:Europe/Madrid
BEGIN:VEVENT
SUMMARY:Xerrada: "Marketing i vendes per a PIMES i comerços en l'era de la sobreinformació"
DTSTART;TZID=Europe/Madrid;VALUE=DATE-TIME:20101117T170000
DTEND;TZID=Europe/Madrid;VALUE=DATE-TIME:20101117T180000
DTSTAMP;VALUE=DATE-TIME:20260424T033303Z
UID:16a9305781f67b4eb8211ee179823795
CREATED;VALUE=DATE-TIME:20101117T000000Z
LOCATION:Equipament de Promoció Econòmica i Cultural
ORGANIZER:Regidoria d'Ocupació i Serveis Socials
DESCRIPTION:a càrrec d'Àlvaro de Guirior, neuro coach, soci director de Coach i Companyia
URL:https://caldetes.cat/document.php?id=887
END:VEVENT
END:VCALENDAR