BEGIN:VCALENDAR
VERSION:2.0
PRODID:-//Plone.org//NONSGML plone.app.event//EN
X-WR-TIMEZONE:Europe/Madrid
BEGIN:VEVENT
SUMMARY:CONTES SECRETS A LLOCS AMAGATS DE CALDES D'ESTRAC
DTSTART;TZID=Europe/Madrid;VALUE=DATE-TIME:20220722T190000
DTEND;TZID=Europe/Madrid;VALUE=DATE-TIME:20220722T200000
DTSTAMP;VALUE=DATE-TIME:20260423T020135Z
UID:55faa30135e4e28c808edf76dace8cdd
CREATED;VALUE=DATE-TIME:20220722T000000Z
CATEGORIES:Literatura,Infantils
LOCATION:Escola Bressol - Carrer Mestre Joan Barber s/n
ORGANIZER:Biblioteca Can Milans i Ajuntament de Caldes d'Estrac
COMMENT:Preu: Gratuït
DESCRIPTION:'Contes Kamishibai' a càrrec de Verònica Bas
URL:https://caldetes.cat/document.php?id=8895
END:VEVENT
END:VCALENDAR