BEGIN:VCALENDAR
VERSION:2.0
PRODID:-//Plone.org//NONSGML plone.app.event//EN
X-WR-TIMEZONE:Europe/Madrid
BEGIN:VEVENT
SUMMARY:SARDINADA-BOTIFARRADA POPULAR
DTSTART;TZID=Europe/Madrid;VALUE=DATE-TIME:20220730T210000
DTEND;TZID=Europe/Madrid;VALUE=DATE-TIME:20220730T220000
DTSTAMP;VALUE=DATE-TIME:20260422T231233Z
UID:e6c3f7c89ca7fcbc41a5716e344562e8
CREATED;VALUE=DATE-TIME:20220730T000000Z
DESCRIPTION:A la Platja de les Barques de Caldes d'Estrac
URL:https://caldetes.cat/document.php?id=8922
END:VEVENT
END:VCALENDAR