BEGIN:VCALENDAR
VERSION:2.0
PRODID:-//Plone.org//NONSGML plone.app.event//EN
X-WR-TIMEZONE:Europe/Madrid
BEGIN:VEVENT
SUMMARY:Taller de fang
DTSTART;TZID=Europe/Madrid;VALUE=DATE-TIME:20220812T170000
DTEND;TZID=Europe/Madrid;VALUE=DATE-TIME:20220812T180000
DTSTAMP;VALUE=DATE-TIME:20260424T160928Z
UID:41972f4912923e4d838a5dd3d1092f48
CREATED;VALUE=DATE-TIME:20220805T000000Z
LOCATION:Espai Jove de Caldes d'Estrac - La Fabriqueta (La Riera 5-9, entrada per Camí Ral).
ORGANIZER:Espai Jove de Caldes d'Estrac
COMMENT:Preu: Gratuït
Durada: Els divendres 5 i 12 d'agost de 17 a 20 hores
DESCRIPTION:Deixa anar la teva imaginació i expressa't a través del fang!
URL:https://caldetes.cat/document.php?id=8936
END:VEVENT
END:VCALENDAR