BEGIN:VCALENDAR
VERSION:2.0
PRODID:-//Plone.org//NONSGML plone.app.event//EN
X-WR-TIMEZONE:Europe/Madrid
BEGIN:VEVENT
SUMMARY:Paddle Surf
DTSTART;TZID=Europe/Madrid;VALUE=DATE-TIME:20220818T100000
DTEND;TZID=Europe/Madrid;VALUE=DATE-TIME:20220818T110000
DTSTAMP;VALUE=DATE-TIME:20260422T071959Z
UID:e899d18aaa2ec8addc2bbf6edefb84a9
CREATED;VALUE=DATE-TIME:20220818T000000Z
ORGANIZER:SUP Caldetes i Espai Jove de Caldes d'Estrac
COMMENT:Preu: Gratuït
Durada: El dijous 18 d'agost a les 10 hores a la Platja dels Tres Micos
DESCRIPTION:Aixeca't, rema i llisca per l'onada!
URL:https://caldetes.cat/document.php?id=8938
END:VEVENT
END:VCALENDAR