BEGIN:VCALENDAR
VERSION:2.0
PRODID:-//Plone.org//NONSGML plone.app.event//EN
X-WR-TIMEZONE:Europe/Madrid
BEGIN:VEVENT
SUMMARY:Tarda de Just Dance
DTSTART;TZID=Europe/Madrid;VALUE=DATE-TIME:20220826T170000
DTEND;TZID=Europe/Madrid;VALUE=DATE-TIME:20220826T180000
DTSTAMP;VALUE=DATE-TIME:20260423T073328Z
UID:c5d4ef349e2ed90b9d957803d5083732
CREATED;VALUE=DATE-TIME:20220826T000000Z
LOCATION:Espai Jove de Caldes d'Estrac - La Fabriqueta (La Riera 5-9, entrada per Camí Ral).
ORGANIZER:Espai Jove de Caldes d'Estrac
COMMENT:Preu: Gratuït
Durada: El divendres 26 d'agost de 17 a 20 hores
DESCRIPTION:Vine a desinhibir-te i a moure l'esquelet a ritme de Just Dance!
URL:https://caldetes.cat/document.php?id=8942
END:VEVENT
END:VCALENDAR