BEGIN:VCALENDAR
VERSION:2.0
PRODID:-//Plone.org//NONSGML plone.app.event//EN
X-WR-TIMEZONE:Europe/Madrid
BEGIN:VEVENT
SUMMARY:Tarda de cinema
DTSTART;TZID=Europe/Madrid;VALUE=DATE-TIME:20220827T170000
DTEND;TZID=Europe/Madrid;VALUE=DATE-TIME:20220827T180000
DTSTAMP;VALUE=DATE-TIME:20260422T230736Z
UID:fbd947f8e52f3d145e9b2d840e9517d5
CREATED;VALUE=DATE-TIME:20220827T000000Z
LOCATION:Espai Jove de Caldes d'Estrac - La Fabriqueta (La Riera 5-9, entrada per Camí Ral).
ORGANIZER:Espai Jove de Caldes d'Estrac
COMMENT:Preu: Gratuït
Durada: El dissabte 27 d'agost de 17 a 20 hores
DESCRIPTION:Vine a passar una tarda de pel·lícula a l'Espai Jove de Caldes d'Estrac!
URL:https://caldetes.cat/document.php?id=8943
END:VEVENT
END:VCALENDAR