BEGIN:VCALENDAR
VERSION:2.0
PRODID:-//Plone.org//NONSGML plone.app.event//EN
X-WR-TIMEZONE:Europe/Madrid
BEGIN:VEVENT
SUMMARY:Matí resfrescant
DTSTART;TZID=Europe/Madrid;VALUE=DATE-TIME:20220910T110000
DTEND;TZID=Europe/Madrid;VALUE=DATE-TIME:20220910T120000
DTSTAMP;VALUE=DATE-TIME:20260421T154618Z
UID:e4f06ea4a1e09f7447b464c68f8bee6f
CREATED;VALUE=DATE-TIME:20220910T000000Z
CATEGORIES:Festa
LOCATION:Esplanada Can Muntanyà
ORGANIZER:Ajuntament de Caldes d'Estrac
COMMENT:Preu: Gratuït
URL:https://caldetes.cat/document.php?id=8971
END:VEVENT
END:VCALENDAR