BEGIN:VCALENDAR
VERSION:2.0
PRODID:-//Plone.org//NONSGML plone.app.event//EN
X-WR-TIMEZONE:Europe/Madrid
BEGIN:VEVENT
SUMMARY:Inflables de tradició catalana
DTSTART;TZID=Europe/Madrid;VALUE=DATE-TIME:20220910T183000
DTEND;TZID=Europe/Madrid;VALUE=DATE-TIME:20220910T193000
DTSTAMP;VALUE=DATE-TIME:20260422T105836Z
UID:bf0026e7a29d301d2b4ce04dbe945aed
CREATED;VALUE=DATE-TIME:20220910T000000Z
CATEGORIES:Festa
LOCATION:Parc Joan Maragall
ORGANIZER:Ajuntament de Caldes d'Estrac
COMMENT:Preu: Gratuït
URL:https://caldetes.cat/document.php?id=8973
END:VEVENT
END:VCALENDAR