BEGIN:VCALENDAR
VERSION:2.0
PRODID:-//Plone.org//NONSGML plone.app.event//EN
X-WR-TIMEZONE:Europe/Madrid
BEGIN:VEVENT
SUMMARY:Ball de Gala de Festa Major
DTSTART;TZID=Europe/Madrid;VALUE=DATE-TIME:20220911T000001
DTEND;TZID=Europe/Madrid;VALUE=DATE-TIME:20220911T010001
DTSTAMP;VALUE=DATE-TIME:20260421T173631Z
UID:1d3b587425305800fb2b02ffbd8f37ec
CREATED;VALUE=DATE-TIME:20220911T000000Z
CATEGORIES:Festa,Música
LOCATION:Esplanada Can Muntanyà
ORGANIZER:Ajuntament de Caldes d'Estrac
COMMENT:Preu: Gratuït
URL:https://caldetes.cat/document.php?id=8976
END:VEVENT
END:VCALENDAR