BEGIN:VCALENDAR
VERSION:2.0
PRODID:-//Plone.org//NONSGML plone.app.event//EN
X-WR-TIMEZONE:Europe/Madrid
BEGIN:VEVENT
SUMMARY:Gimcana infantil solidària
DTSTART;TZID=Europe/Madrid;VALUE=DATE-TIME:20220911T110000
DTEND;TZID=Europe/Madrid;VALUE=DATE-TIME:20220911T120000
DTSTAMP;VALUE=DATE-TIME:20260421T022045Z
UID:4deb00c03eaab1b87762494fe6398c87
CREATED;VALUE=DATE-TIME:20220911T000000Z
CATEGORIES:Esports
LOCATION:Plaça de les Barques
ORGANIZER:Ajuntament de Caldes d'Estrac i Creu Roja de Caldes d'Estrac
COMMENT:Preu: Gratuït
URL:https://caldetes.cat/document.php?id=8978
END:VEVENT
END:VCALENDAR