BEGIN:VCALENDAR
VERSION:2.0
PRODID:-//Plone.org//NONSGML plone.app.event//EN
X-WR-TIMEZONE:Europe/Madrid
BEGIN:VEVENT
SUMMARY:Nit dels fogalls
DTSTART;TZID=Europe/Madrid;VALUE=DATE-TIME:20220912T000001
DTEND;TZID=Europe/Madrid;VALUE=DATE-TIME:20220912T010001
DTSTAMP;VALUE=DATE-TIME:20260423T102008Z
UID:8f23a5e951e1f08e18d970f3ce48af73
CREATED;VALUE=DATE-TIME:20220912T000000Z
CATEGORIES:Festa,Música
LOCATION:Esplanada Can Muntanyà
ORGANIZER:Ajuntament de Caldes d'Estrac
COMMENT:Preu: Gratuït
DESCRIPTION:Amb Sixtus, DJ Ricky Vives i DJ Henry Jones
URL:https://caldetes.cat/document.php?id=8982
END:VEVENT
END:VCALENDAR